BEGIN:VCALENDAR
VERSION:2.0
PRODID:-//City of Galva Illinois - ECPv6.15.17.1//NONSGML v1.0//EN
CALSCALE:GREGORIAN
METHOD:PUBLISH
X-ORIGINAL-URL:https://www.galvail.gov
X-WR-CALDESC:Events for City of Galva Illinois
REFRESH-INTERVAL;VALUE=DURATION:PT1H
X-Robots-Tag:noindex
X-PUBLISHED-TTL:PT1H
BEGIN:VTIMEZONE
TZID:America/Chicago
BEGIN:DAYLIGHT
TZOFFSETFROM:-0600
TZOFFSETTO:-0500
TZNAME:CDT
DTSTART:20250309T080000
END:DAYLIGHT
BEGIN:STANDARD
TZOFFSETFROM:-0500
TZOFFSETTO:-0600
TZNAME:CST
DTSTART:20251102T070000
END:STANDARD
BEGIN:DAYLIGHT
TZOFFSETFROM:-0600
TZOFFSETTO:-0500
TZNAME:CDT
DTSTART:20260308T080000
END:DAYLIGHT
BEGIN:STANDARD
TZOFFSETFROM:-0500
TZOFFSETTO:-0600
TZNAME:CST
DTSTART:20261101T070000
END:STANDARD
BEGIN:DAYLIGHT
TZOFFSETFROM:-0600
TZOFFSETTO:-0500
TZNAME:CDT
DTSTART:20270314T080000
END:DAYLIGHT
BEGIN:STANDARD
TZOFFSETFROM:-0500
TZOFFSETTO:-0600
TZNAME:CST
DTSTART:20271107T070000
END:STANDARD
END:VTIMEZONE
BEGIN:VEVENT
DTSTART;TZID=America/Chicago:20260426T180000
DTEND;TZID=America/Chicago:20260426T210000
DTSTAMP:20260422T073649
CREATED:20260421T125948Z
LAST-MODIFIED:20260421T125948Z
UID:10000281-1777226400-1777237200@www.galvail.gov
SUMMARY:The Hooten Hallers
DESCRIPTION:Crossroads Cultural Connections is excited to present an electrifying night of live music with The Hooten Hallers on Sunday\, April 26 at Bishop Hill Creative Commons. \nThe evening will begin at 6:00 PM with an optional potluck dinner\, offering guests a chance to gather and connect before the performance. Attendees are welcome to bring a dish to share if they wish to participate. The concert will begin at 7:00 PM. \nHailing from Missouri\, The Hooten Hallers are known for their gritty\, high-energy blend of blues\, rock\, and roots music\, driven by a powerful combination of saxophone\, guitar\, and drums. Their sound is raw\, soulful\, and deeply rooted in American musical traditions\, while their live performances are anything but conventional. \nOften described as a band that must be experienced live\, The Hooten Hallers bring an intensity and authenticity to the stage that captivates audiences from the first note. Their music channels elements of garage rock\, hill country blues\, and soul into a sound that is both familiar and entirely their own. \nWith a reputation built on relentless touring and unforgettable performances\, the band has cultivated a loyal following across the country. Whether playing intimate venues or festival stages\, they deliver a show that is equal parts energy\, musicianship\, and connection. \nPresented by Crossroads Cultural Connections\, this concert continues the organization’s mission of bringing meaningful\, high-quality live music experiences to Henry County and surrounding communities. \nThe event is open to all ages\, with a suggested donation of $20–$30\, 100% of which goes directly to the performers\, supporting artists and sustaining live music. \nEvent Details\nSunday\, April 26\nPotluck Dinner: 6:00 PM (optional)\nConcert: 7:00 PM\nBishop Hill Creative Commons\n309 North Bishop Hill Street\nBishop Hill\, Illinois \nFor tickets and more information please visit xroadscc.org.
URL:https://www.galvail.gov/event/the-hooten-hallers/
LOCATION:Bishop Hill Creative Commons\, 309 N. Bishop Hill St\, Bishop Hill\, IL\, 61434\, United States
ATTACH;FMTTYPE=image/jpeg:https://www.galvail.gov/wp-content/uploads/HootinHallers.jpg
ORGANIZER;CN="Crossroads Cultural Connections":MAILTO:crossroadsculturalconnections@gmail.com
END:VEVENT
END:VCALENDAR