BEGIN:VCALENDAR
VERSION:2.0
PRODID:-//City of Galva Illinois - ECPv6.15.17.1//NONSGML v1.0//EN
CALSCALE:GREGORIAN
METHOD:PUBLISH
X-WR-CALNAME:City of Galva Illinois
X-ORIGINAL-URL:https://www.galvail.gov
X-WR-CALDESC:Events for City of Galva Illinois
REFRESH-INTERVAL;VALUE=DURATION:PT1H
X-Robots-Tag:noindex
X-PUBLISHED-TTL:PT1H
BEGIN:VTIMEZONE
TZID:America/Chicago
BEGIN:DAYLIGHT
TZOFFSETFROM:-0600
TZOFFSETTO:-0500
TZNAME:CDT
DTSTART:20240310T080000
END:DAYLIGHT
BEGIN:STANDARD
TZOFFSETFROM:-0500
TZOFFSETTO:-0600
TZNAME:CST
DTSTART:20241103T070000
END:STANDARD
BEGIN:DAYLIGHT
TZOFFSETFROM:-0600
TZOFFSETTO:-0500
TZNAME:CDT
DTSTART:20250309T080000
END:DAYLIGHT
BEGIN:STANDARD
TZOFFSETFROM:-0500
TZOFFSETTO:-0600
TZNAME:CST
DTSTART:20251102T070000
END:STANDARD
BEGIN:DAYLIGHT
TZOFFSETFROM:-0600
TZOFFSETTO:-0500
TZNAME:CDT
DTSTART:20260308T080000
END:DAYLIGHT
BEGIN:STANDARD
TZOFFSETFROM:-0500
TZOFFSETTO:-0600
TZNAME:CST
DTSTART:20261101T070000
END:STANDARD
END:VTIMEZONE
BEGIN:VEVENT
DTSTART;TZID=America/Chicago:20250824T080000
DTEND;TZID=America/Chicago:20250824T140000
DTSTAMP:20260424T065405
CREATED:20250818T151102Z
LAST-MODIFIED:20250825T194547Z
UID:10000006-1756022400-1756044000@www.galvail.gov
SUMMARY:Galva Freedom Fest Car Show
DESCRIPTION:spectators free\, registration fee applies to participants \nhttps://facebook.com/galvafreedomfestcarshow
URL:https://www.galvail.gov/event/galva-freedom-fest-car-show/
LOCATION:Wiley Park\, 398 NW 4th St\, Galva\, IL\, 61434\, United States
ATTACH;FMTTYPE=image/jpeg:https://www.galvail.gov/wp-content/uploads/2018CarShow-266-Edit.jpg
END:VEVENT
BEGIN:VEVENT
DTSTART;TZID=America/Chicago:20250816T160000
DTEND;TZID=America/Chicago:20250816T190000
DTSTAMP:20260424T065405
CREATED:20250818T150814Z
LAST-MODIFIED:20250821T213732Z
UID:10000005-1755360000-1755370800@www.galvail.gov
SUMMARY:Galva Fire Department Hog Roast
DESCRIPTION:https://facebook.com/Galva.Community.Fire.Department
URL:https://www.galvail.gov/event/galva-fire-department-hog-roast/
LOCATION:Galva Fire Department\, 210 Front St\, Galva\, IL\, 61434\, United States
END:VEVENT
BEGIN:VEVENT
DTSTART;TZID=America/Chicago:20250809T140000
DTEND;TZID=America/Chicago:20250809T230000
DTSTAMP:20260424T065405
CREATED:20250818T150613Z
LAST-MODIFIED:20250821T213720Z
UID:10000004-1754748000-1754780400@www.galvail.gov
SUMMARY:The Back Road Music Festival
DESCRIPTION:https://facebook.com/tbrmf
URL:https://www.galvail.gov/event/the-back-road-music-festival/
LOCATION:Galva Park District\, Galva\, IL\, 61434\, United States
ATTACH;FMTTYPE=image/jpeg:https://www.galvail.gov/wp-content/uploads/brmf.jpg
END:VEVENT
BEGIN:VEVENT
DTSTART;TZID=America/Chicago:20250803T180000
DTEND;TZID=America/Chicago:20250803T220000
DTSTAMP:20260424T065405
CREATED:20250818T150110Z
LAST-MODIFIED:20250821T213643Z
UID:10000003-1754244000-1754258400@www.galvail.gov
SUMMARY:Levitt Amp Music Series: Parker Barrow (Southern Rock\, Country) & Zydeco Voodoo (Zydeco)
DESCRIPTION:https://facebook.com/LevittAmpGalvaMusicSeries
URL:https://www.galvail.gov/event/levitt-amp-music-series-parker-barrow-southern-rock-country-zydeco-voodoo-zydeco/
LOCATION:Wiley Park\, 398 NW 4th St\, Galva\, IL\, 61434\, United States
ATTACH;FMTTYPE=image/jpeg:https://www.galvail.gov/wp-content/uploads/Levitt-Amp-1.jpg
END:VEVENT
BEGIN:VEVENT
DTSTART;TZID=America/Chicago:20250801T170000
DTEND;TZID=America/Chicago:20250801T200000
DTSTAMP:20260424T065405
CREATED:20250818T151800Z
LAST-MODIFIED:20250825T190440Z
UID:10000008-1754067600-1754078400@www.galvail.gov
SUMMARY:Mens Galva Day Golf Outing
DESCRIPTION:
URL:https://www.galvail.gov/event/mens-galva-day-golf-outing/
LOCATION:Midland Golf Club\, 3536 Midland Rd.\, Kewanee\, IL\, 61443\, United States
ATTACH;FMTTYPE=image/jpeg:https://www.galvail.gov/wp-content/uploads/male-golfer.jpg
END:VEVENT
BEGIN:VEVENT
DTSTART;TZID=America/Chicago:20250801T170000
DTEND;TZID=America/Chicago:20250801T200000
DTSTAMP:20260424T065405
CREATED:20250818T151606Z
LAST-MODIFIED:20250825T190413Z
UID:10000007-1754067600-1754078400@www.galvail.gov
SUMMARY:Ladies Galva Day Golf Outing
DESCRIPTION:https://www.facebook.com/profile.php?id=61573992567295
URL:https://www.galvail.gov/event/ladies-galva-day-golf-outing/
LOCATION:Baker Park Golf Course\, 1095 Cambridge Rd\, Kewanee\, IL\, 61443\, United States
ATTACH;FMTTYPE=image/jpeg:https://www.galvail.gov/wp-content/uploads/female-golfer.jpg
END:VEVENT
BEGIN:VEVENT
DTSTART;TZID=America/Chicago:20250727T180000
DTEND;TZID=America/Chicago:20250727T220000
DTSTAMP:20260424T065405
CREATED:20250818T145931Z
LAST-MODIFIED:20250821T213610Z
UID:10000002-1753639200-1753653600@www.galvail.gov
SUMMARY:Levitt Amp Music Series: Pat Byrne (Celtic Rock) & Dickie (Indie Rock)
DESCRIPTION:https://facebook.com/LevittAmpGalvaMusicSeries
URL:https://www.galvail.gov/event/levitt-amp-music-series-pat-byrne-celtic-rock-dickie-indie-rock/
LOCATION:Wiley Park\, 398 NW 4th St\, Galva\, IL\, 61434\, United States
ATTACH;FMTTYPE=image/jpeg:https://www.galvail.gov/wp-content/uploads/Levitt-Amp-1.jpg
END:VEVENT
BEGIN:VEVENT
DTSTART;TZID=America/Chicago:20250720T180000
DTEND;TZID=America/Chicago:20250720T220000
DTSTAMP:20260424T065405
CREATED:20250818T145550Z
LAST-MODIFIED:20250821T213554Z
UID:10000001-1753034400-1753048800@www.galvail.gov
SUMMARY:Levitt Amp Music Series: Brass Queens (Brass) & Blame Not the Bard (Traditional Irish)
DESCRIPTION:https://facebook.com/LevittAmpGalvaMusicSeries
URL:https://www.galvail.gov/event/levitt-amp-music-series-brass-queens-brass-blame-not-the-bard-traditional-irish/
LOCATION:Wiley Park\, 398 NW 4th St\, Galva\, IL\, 61434\, United States
ATTACH;FMTTYPE=image/jpeg:https://www.galvail.gov/wp-content/uploads/Levitt-Amp-1.jpg
END:VEVENT
END:VCALENDAR